BEGIN:VCALENDAR
VERSION:2.0
PRODID:-//Plone.org//NONSGML plone.app.event//EN
X-WR-TIMEZONE:Europe/Rome
BEGIN:VEVENT
SUMMARY:Evento
DTSTART;VALUE=DATE:20260510
DTEND;VALUE=DATE:20260511
DTSTAMP:20260423T044306Z
UID:f37dd46f89e74ddb98567c658e34d770@plone6.unife.it:8059
CREATED:20260420T110246Z
LAST-MODIFIED:20260420T110957Z
URL:https://mtr.unife.it/it/iniziative/2026/05-10/evento
END:VEVENT
END:VCALENDAR
