BEGIN:VCALENDAR
VERSION:2.0
PRODID:-//Plone.org//NONSGML plone.app.event//EN
X-WR-TIMEZONE:Europe/Rome
BEGIN:VEVENT
SUMMARY:Seminario
DTSTART;VALUE=DATE:20260429
DTEND;VALUE=DATE:20260430
DTSTAMP:20260423T191922Z
UID:cbdd932448264a9bb4daf323fceae873@plone6.unife.it:8059
CREATED:20260126T154422Z
LAST-MODIFIED:20260126T154514Z
URL:https://mtr.unife.it/it/iniziative/2026/04-29/seminario
END:VEVENT
END:VCALENDAR
