BEGIN:VCALENDAR
VERSION:2.0
PRODID:-//Plone.org//NONSGML plone.app.event//EN
X-WR-TIMEZONE:Europe/Rome
BEGIN:VEVENT
SUMMARY:Seminario
DTSTART;VALUE=DATE:20260420
DTEND;VALUE=DATE:20260421
DTSTAMP:20260423T081307Z
UID:f9990c16d5f54aee8468009f6722b6f8@plone6.unife.it:8059
CREATED:20260126T153403Z
LAST-MODIFIED:20260126T154514Z
URL:https://mtr.unife.it/it/iniziative/2026/04-20/seminario
END:VEVENT
END:VCALENDAR
