BEGIN:VCALENDAR
VERSION:2.0
PRODID:-//Plone.org//NONSGML plone.app.event//EN
X-WR-TIMEZONE:Europe/Rome
BEGIN:VEVENT
SUMMARY:Seminario
DTSTART;VALUE=DATE:20260325
DTEND;VALUE=DATE:20260326
DTSTAMP:20260423T153422Z
UID:12ed338e4a0c44869edfe1953e1959ff@plone6.unife.it:8059
CREATED:20260126T152557Z
LAST-MODIFIED:20260126T152618Z
URL:https://mtr.unife.it/it/iniziative/2026/03-25/seminario
END:VEVENT
END:VCALENDAR
