BEGIN:VCALENDAR
VERSION:2.0
PRODID:-//Plone.org//NONSGML plone.app.event//EN
X-WR-TIMEZONE:Europe/Rome
BEGIN:VEVENT
SUMMARY:Seminario
DTSTART;VALUE=DATE:20260317
DTEND;VALUE=DATE:20260318
DTSTAMP:20260423T081307Z
UID:1cbc17b965f741c4a86ec63b9a8af2a5@plone6.unife.it:8059
CREATED:20260126T151632Z
LAST-MODIFIED:20260126T151657Z
URL:https://mtr.unife.it/it/iniziative/2026/03-17/seminario
END:VEVENT
END:VCALENDAR
